BEGIN:VCALENDAR
VERSION:2.0
PRODID:-//wp-events-plugin.com//6.6.3//EN
BEGIN:VEVENT
UID:82@kiwaniscluboffrontroyal.org
DTSTART:20240911T220000Z
DTEND:20240911T233000Z
DTSTAMP:20240820T140104Z
URL:https://kiwaniscluboffrontroyal.org/events/weekly-club-meeting-2024-09
 -11/
SUMMARY:Weekly Club Meeting
DESCRIPTION:September 11th Meeting Speaker: Bret Bement with Play Favorites
 \nWe meet every Wednesday. Join us at 6pm in the Warren County Sheriff’s
  Office meeting room to make a difference in your community! All are welco
 me!
ATTACH;FMTTYPE=image/jpeg:https://kiwaniscluboffrontroyal.org/wp-content/u
 ploads/2024/08/WCSO.jpg
CATEGORIES:Meetings
LOCATION:Warren County Sheriff's Office\, 200 Skyline Vista Drive\, Front R
 oyal\, VA\, 22630\, United States
X-APPLE-STRUCTURED-LOCATION;VALUE=URI;X-ADDRESS=200 Skyline Vista Drive\, F
 ront Royal\, VA\, 22630\, United States;X-APPLE-RADIUS=100;X-TITLE=Warren 
 County Sheriff's Office:geo:0,0
END:VEVENT
END:VCALENDAR